BEGIN:VCALENDAR
VERSION:2.0
PRODID:-//eventon.com NONSGML v1.0//EN
CALSCALE:GREGORIAN
METHOD:PUBLISH
BEGIN:VEVENT
UID:69e62c6fcc9b6
DTSTAMP:20260420T133855Z
DTSTART:20261020
DTEND:20261021
LOCATION:Harrisdale Pavillion 83 Gracefield Blvd\,  Harrisdale WA 6112
SUMMARY:Sense Rugby Term 4
DESCRIPTION:Term 4 2026 Sense Rugby is a program run during the school ter
 m in collaboration with Rugby WA Clubs. Each groups is supported by an Occu
 pational Therapist\,  Rugby Coach and helpers. Sense Rugby is held in Term 
 1 and Term 4 each year. It is an 8 week program held on[..]\nhttps://stagin
 g.calmandconnected.com.au/events-2/sense-rugby-term-4-2/
URL:https://staging.calmandconnected.com.au/events-2/sense-rugby-term-4-2/
END:VEVENT
END:VCALENDAR