BEGIN:VCALENDAR
VERSION:2.0
PRODID:-//eventon.com NONSGML v1.0//EN
CALSCALE:GREGORIAN
METHOD:PUBLISH
BEGIN:VEVENT
UID:69e62c6fd6c44
DTSTAMP:20260420T133855Z
DTSTART:20260817T010000Z
DTEND:20260817T040000Z
LOCATION:118.108\,  Curtin Bentley
SUMMARY:Seeing the Whole Child: A Sensory and Self-Regulation Perspective
DESCRIPTION:Calm &amp; Connected is hosting a seminar for occupational ther
 apists and occupational therapy students who are interested in learning mor
 e about supporting and working with clients through a self-regulation\,  mo
 tor\,  and sensory processing lens. This seminar also includes a practical 
 component around conducting initial OT assessments and clinical observation
 s. Location:[..]\nhttps://staging.calmandconnected.com.au/events-2/seeing-t
 he-whole-child-a-sensory-and-self-regulation-perspective/
URL:https://staging.calmandconnected.com.au/events-2/seeing-the-whole-child-a-sensory-and-self-regulation-perspective/
END:VEVENT
END:VCALENDAR