BEGIN:VCALENDAR
VERSION:2.0
PRODID:-//eventon.com NONSGML v1.0//EN
CALSCALE:GREGORIAN
METHOD:PUBLISH
BEGIN:VEVENT
UID:69e62c36c214f
DTSTAMP:20260420T133758Z
DTSTART:20260429
DTEND:20260430
LOCATION:Align Fitness 111 Konkerberry Dr
SUMMARY:In Motion; Strength and Skills Group Term 2
DESCRIPTION:Term 2 2026 In Motion: Strength &amp; Skills is a fun\,  gym-ba
 sed group program designed to help children build strong bodies and strong 
 life skills. Through active games\,  structured movement activities\,  and 
 team challenges\,  children develop motor coordination\,  confidence\,  soc
 ial skills\,  and emotional regulation — all while staying engaged and[..
 ]\nhttps://staging.calmandconnected.com.au/events-2/in-motion-strength-and-
 skills-group-term-2/
URL:https://staging.calmandconnected.com.au/events-2/in-motion-strength-and-skills-group-term-2/
END:VEVENT
END:VCALENDAR